BEGIN:VCALENDAR
VERSION:2.0
PRODID:-//CVHM - ECPv6.3.2//NONSGML v1.0//EN
CALSCALE:GREGORIAN
METHOD:PUBLISH
X-ORIGINAL-URL:https://cvhm.fr/wdprs
X-WR-CALDESC:évènements pour CVHM
REFRESH-INTERVAL;VALUE=DURATION:PT1H
X-Robots-Tag:noindex
X-PUBLISHED-TTL:PT1H
BEGIN:VTIMEZONE
TZID:Europe/Paris
BEGIN:DAYLIGHT
TZOFFSETFROM:+0100
TZOFFSETTO:+0200
TZNAME:CEST
DTSTART:20240331T010000
END:DAYLIGHT
BEGIN:STANDARD
TZOFFSETFROM:+0200
TZOFFSETTO:+0100
TZNAME:CET
DTSTART:20241027T010000
END:STANDARD
END:VTIMEZONE
BEGIN:VEVENT
DTSTART;TZID=Europe/Paris:20240406T080000
DTEND;TZID=Europe/Paris:20240407T183000
DTSTAMP:20260420T084631
CREATED:20240329T191436Z
LAST-MODIFIED:20240329T191436Z
UID:15347-1712390400-1712514600@cvhm.fr
SUMMARY:[Escalade] 2 jours dans la Drôme
DESCRIPTION:Contacter gégé.
URL:https://cvhm.fr/wdprs/event/escalade-2-jours-dans-la-drome/
LOCATION:Die\, quai riondet\, vienne\, Isere\, 38200\, France
CATEGORIES:Sortie Escalade
END:VEVENT
END:VCALENDAR