BEGIN:VCALENDAR
VERSION:2.0
PRODID:-//CVHM - ECPv6.3.2//NONSGML v1.0//EN
CALSCALE:GREGORIAN
METHOD:PUBLISH
X-ORIGINAL-URL:https://cvhm.fr/wdprs
X-WR-CALDESC:évènements pour CVHM
REFRESH-INTERVAL;VALUE=DURATION:PT1H
X-Robots-Tag:noindex
X-PUBLISHED-TTL:PT1H
BEGIN:VTIMEZONE
TZID:Europe/Paris
BEGIN:DAYLIGHT
TZOFFSETFROM:+0100
TZOFFSETTO:+0200
TZNAME:CEST
DTSTART:20250330T010000
END:DAYLIGHT
BEGIN:STANDARD
TZOFFSETFROM:+0200
TZOFFSETTO:+0100
TZNAME:CET
DTSTART:20251026T010000
END:STANDARD
END:VTIMEZONE
BEGIN:VEVENT
DTSTART;TZID=Europe/Paris:20251005T090000
DTEND;TZID=Europe/Paris:20251005T190000
DTSTAMP:20260424T162018
CREATED:20250216T140234Z
LAST-MODIFIED:20250918T060237Z
UID:16983-1759654800-1759690800@cvhm.fr
SUMMARY:[Escalade] Sortie journée organisée de début de saison
DESCRIPTION:Pour démarrer la saison ensemble\, et également découvrir l’escalade en falaise pour ceux qui n’ont jamais pratiqué! \nDébutant\, confirmé\, expert : passons la journée ensemble\, en extérieur. \nNous prêtons tout le matériel nécessaire pour ceux qui n’en sont pas équipés\, et partirons ensemble en mode covoiturage \nLe choix de la falaise se fera en fonction des participants et de la météo. \nPour vous inscrire/ avoir des informations > contactez Gégé au 06-80-45-82-27
URL:https://cvhm.fr/wdprs/event/escalade-ombleze-2/
CATEGORIES:Sortie Escalade
END:VEVENT
END:VCALENDAR