BEGIN:VCALENDAR
VERSION:2.0
PRODID:-//CVHM - ECPv6.3.2//NONSGML v1.0//EN
CALSCALE:GREGORIAN
METHOD:PUBLISH
X-WR-CALNAME:CVHM
X-ORIGINAL-URL:https://cvhm.fr/wdprs
X-WR-CALDESC:évènements pour CVHM
REFRESH-INTERVAL;VALUE=DURATION:PT1H
X-Robots-Tag:noindex
X-PUBLISHED-TTL:PT1H
BEGIN:VTIMEZONE
TZID:Europe/Paris
BEGIN:DAYLIGHT
TZOFFSETFROM:+0100
TZOFFSETTO:+0200
TZNAME:CEST
DTSTART:20260329T010000
END:DAYLIGHT
BEGIN:STANDARD
TZOFFSETFROM:+0200
TZOFFSETTO:+0100
TZNAME:CET
DTSTART:20261025T010000
END:STANDARD
END:VTIMEZONE
BEGIN:VEVENT
DTSTART;TZID=Europe/Paris:20260508T080000
DTEND;TZID=Europe/Paris:20260510T170000
DTSTAMP:20260424T115747
CREATED:20251207T091432Z
LAST-MODIFIED:20251207T091539Z
UID:17860-1778227200-1778432400@cvhm.fr
SUMMARY:[Escalade] Mini-stage
DESCRIPTION:Profitons du pont du mois de mai pour partir en falaise sur 3 jours! \nMini-stage ouvert à tous : du débutant au confirmé. \nNous choisirons un lieu évitant les grands axes autoroutiers en ce week-end de fort trafic 🙂 \nHébergement  : probablement sous tente  \nvous avez des questions\, vous êtes intéressé? Contactez Gégé au 06-80-45-82-27
URL:https://cvhm.fr/wdprs/event/escalade-mini-stage/
CATEGORIES:Sortie Escalade
END:VEVENT
END:VCALENDAR